BEGIN:VCALENDAR
VERSION:2.0
PRODID:-//Atons of Minneapolis - ECPv6.15.20//NONSGML v1.0//EN
CALSCALE:GREGORIAN
METHOD:PUBLISH
X-WR-CALNAME:Atons of Minneapolis
X-ORIGINAL-URL:https://www.atons.net
X-WR-CALDESC:Events for Atons of Minneapolis
REFRESH-INTERVAL;VALUE=DURATION:PT1H
X-Robots-Tag:noindex
X-PUBLISHED-TTL:PT1H
BEGIN:VTIMEZONE
TZID:America/Chicago
BEGIN:DAYLIGHT
TZOFFSETFROM:-0600
TZOFFSETTO:-0500
TZNAME:CDT
DTSTART:20210314T080000
END:DAYLIGHT
BEGIN:STANDARD
TZOFFSETFROM:-0500
TZOFFSETTO:-0600
TZNAME:CST
DTSTART:20211107T070000
END:STANDARD
BEGIN:DAYLIGHT
TZOFFSETFROM:-0600
TZOFFSETTO:-0500
TZNAME:CDT
DTSTART:20220313T080000
END:DAYLIGHT
BEGIN:STANDARD
TZOFFSETFROM:-0500
TZOFFSETTO:-0600
TZNAME:CST
DTSTART:20221106T070000
END:STANDARD
BEGIN:DAYLIGHT
TZOFFSETFROM:-0600
TZOFFSETTO:-0500
TZNAME:CDT
DTSTART:20230312T080000
END:DAYLIGHT
BEGIN:STANDARD
TZOFFSETFROM:-0500
TZOFFSETTO:-0600
TZNAME:CST
DTSTART:20231105T070000
END:STANDARD
END:VTIMEZONE
BEGIN:VEVENT
DTSTART;TZID=America/Chicago:20221009T170000
DTEND;TZID=America/Chicago:20221009T183000
DTSTAMP:20260419T130024
CREATED:20221008T033246Z
LAST-MODIFIED:20221008T033252Z
UID:2818-1665334800-1665340200@www.atons.net
SUMMARY:October 2022 General Meeting
DESCRIPTION:You are welcome to join us for our monthly general meeting. We are meeting via Google Meet.  \n\n\n\nYou can access our meeting agenda here. \n\n\n\nCall in via this Google Meet link.
URL:https://www.atons.net/event/october-2022-general-meeting/
CATEGORIES:Meeting
ATTACH;FMTTYPE=image/jpeg:https://www.atons.net/wp-content/uploads/2019/02/hanky-variety.jpg
END:VEVENT
END:VCALENDAR