BEGIN:VCALENDAR
VERSION:2.0
PRODID:-//Atons of Minneapolis - ECPv6.15.20//NONSGML v1.0//EN
CALSCALE:GREGORIAN
METHOD:PUBLISH
X-WR-CALNAME:Atons of Minneapolis
X-ORIGINAL-URL:https://www.atons.net
X-WR-CALDESC:Events for Atons of Minneapolis
REFRESH-INTERVAL;VALUE=DURATION:PT1H
X-Robots-Tag:noindex
X-PUBLISHED-TTL:PT1H
BEGIN:VTIMEZONE
TZID:America/Chicago
BEGIN:DAYLIGHT
TZOFFSETFROM:-0600
TZOFFSETTO:-0500
TZNAME:CDT
DTSTART:20220313T080000
END:DAYLIGHT
BEGIN:STANDARD
TZOFFSETFROM:-0500
TZOFFSETTO:-0600
TZNAME:CST
DTSTART:20221106T070000
END:STANDARD
BEGIN:DAYLIGHT
TZOFFSETFROM:-0600
TZOFFSETTO:-0500
TZNAME:CDT
DTSTART:20230312T080000
END:DAYLIGHT
BEGIN:STANDARD
TZOFFSETFROM:-0500
TZOFFSETTO:-0600
TZNAME:CST
DTSTART:20231105T070000
END:STANDARD
BEGIN:DAYLIGHT
TZOFFSETFROM:-0600
TZOFFSETTO:-0500
TZNAME:CDT
DTSTART:20240310T080000
END:DAYLIGHT
BEGIN:STANDARD
TZOFFSETFROM:-0500
TZOFFSETTO:-0600
TZNAME:CST
DTSTART:20241103T070000
END:STANDARD
END:VTIMEZONE
BEGIN:VEVENT
DTSTART;TZID=America/Chicago:20230730T104500
DTEND;TZID=America/Chicago:20230730T170000
DTSTAMP:20260422T134254
CREATED:20230707T134901Z
LAST-MODIFIED:20230707T134947Z
UID:3542-1690713900-1690736400@www.atons.net
SUMMARY:Yee-Haw! Atons giddyup to the Rodeo!
DESCRIPTION:Yee-haw! Join the Atons for a rootin’ tootin’ time at the North Star Regional Rodeo in Hugo\, MN on Sunday\, July 30. Gates open at 11\, admission is free. We’ll meet near the main gates of the Dead Broke Arena in Hugo. The weather is likely to be hot\, so dress comfortably and wear sunscreen. Western wear/cowboy gear is suggested but be safe. Admission is free\, but bring cash for food\, beverage\, or to visit the vendors. \nFor more information about the Rodeo\, check the NSGRA site: http://www.nsgra.org/general-info.aspx
URL:https://www.atons.net/event/yee-haw-atons-giddyup-to-the-rodeo/
LOCATION:Dead Broke Arena\, 5676 170th St N\, Hugu\, MN\, United States
CATEGORIES:Social
ATTACH;FMTTYPE=image/jpeg:https://www.atons.net/wp-content/uploads/2023/07/atons-rodeo.jpg
END:VEVENT
END:VCALENDAR