BEGIN:VCALENDAR
VERSION:2.0
PRODID:-//Atons of Minneapolis - ECPv6.15.20//NONSGML v1.0//EN
CALSCALE:GREGORIAN
METHOD:PUBLISH
X-ORIGINAL-URL:https://www.atons.net
X-WR-CALDESC:Events for Atons of Minneapolis
REFRESH-INTERVAL;VALUE=DURATION:PT1H
X-Robots-Tag:noindex
X-PUBLISHED-TTL:PT1H
BEGIN:VTIMEZONE
TZID:America/Chicago
BEGIN:DAYLIGHT
TZOFFSETFROM:-0600
TZOFFSETTO:-0500
TZNAME:CDT
DTSTART:20170312T080000
END:DAYLIGHT
BEGIN:STANDARD
TZOFFSETFROM:-0500
TZOFFSETTO:-0600
TZNAME:CST
DTSTART:20171105T070000
END:STANDARD
BEGIN:DAYLIGHT
TZOFFSETFROM:-0600
TZOFFSETTO:-0500
TZNAME:CDT
DTSTART:20180311T080000
END:DAYLIGHT
BEGIN:STANDARD
TZOFFSETFROM:-0500
TZOFFSETTO:-0600
TZNAME:CST
DTSTART:20181104T070000
END:STANDARD
BEGIN:DAYLIGHT
TZOFFSETFROM:-0600
TZOFFSETTO:-0500
TZNAME:CDT
DTSTART:20190310T080000
END:DAYLIGHT
BEGIN:STANDARD
TZOFFSETFROM:-0500
TZOFFSETTO:-0600
TZNAME:CST
DTSTART:20191103T070000
END:STANDARD
BEGIN:DAYLIGHT
TZOFFSETFROM:-0600
TZOFFSETTO:-0500
TZNAME:CDT
DTSTART:20200308T080000
END:DAYLIGHT
BEGIN:STANDARD
TZOFFSETFROM:-0500
TZOFFSETTO:-0600
TZNAME:CST
DTSTART:20201101T070000
END:STANDARD
END:VTIMEZONE
BEGIN:VEVENT
DTSTART;TZID=America/Chicago:20190210T173000
DTEND;TZID=America/Chicago:20190210T190000
DTSTAMP:20260419T181448
CREATED:20190206T063511Z
LAST-MODIFIED:20221008T032127Z
UID:10000280-1549819800-1549825200@www.atons.net
SUMMARY:Atons February Monthly Meeting
DESCRIPTION:The Atons hold monthly meetings to discuss and plan upcoming activities\, and to socialize with each other and our guests. We welcome all members\, associates\, and community members to attend and participate in these conversations with us.\n\nThe full members have a closed meeting from 4:30 until 5:15 to discuss any private membership issues. Guests are welcome to arrive at 5:15. The open meeting starts at 5:30 and typically lasts about an hour.\n\nA social potluck dinner follows the open meeting. Everyone is encouraged to bring something to share.\n\nIf you’d like to attend and need the address\, please send us a message on Facebook\, or an email to president@atons.net.
URL:https://www.atons.net/event/feb-2019-meeting/
LOCATION:Private Location\, Minneapolis\, MN
CATEGORIES:Meeting
ATTACH;FMTTYPE=image/jpeg:https://www.atons.net/wp-content/uploads/2019/02/hanky-variety.jpg
END:VEVENT
BEGIN:VEVENT
DTSTART;TZID=America/Chicago:20190112T190000
DTEND;TZID=America/Chicago:20190112T210000
DTSTAMP:20260419T181448
CREATED:20190105T053351Z
LAST-MODIFIED:20210930T174039Z
UID:10000278-1547319600-1547326800@www.atons.net
SUMMARY:Atons January 2019 L & L Dinner - Khan’s Mongolian Barbecue (Richfield)
DESCRIPTION:Join us for our first L&L of 2019 at Khan’s Mongolian Barbeque. L&L dinners are a great way to get to know the Atons and to spend time with our leather family. \nThis isn’t your typical restaurant. You have belly up to the buffet\, put your ingredient in a big bowl\, and let the guys in the kitchen cook it up. It can seem a little intimidating\, but there are several Atons who are expert at the art of Mongolian barbeque ingredient mixing. Read their Yelp review at http://www.yelp.com/biz/khans-mongolian-barbeque-richfield. \nRSVP by Friday\, January 11\, 2019. If you have any questions\, please send an email to activities@atons.net. \nCLICK HERE TO RSVP ON EVENTBRITE \nConnect with other attendees on our Facebook event.
URL:https://www.atons.net/event/atons-january-2019-l-l-dinner-khans-mongolian-barbecue-richfield/
LOCATION:Khan’s Mongolian Barbecue (Richfield)\, 500 E 78th St.\, RIchfield\, MN\, 55423\, United States
CATEGORIES:Social
ATTACH;FMTTYPE=image/jpeg:https://www.atons.net/wp-content/uploads/2019/01/khans.jpg
END:VEVENT
BEGIN:VEVENT
DTSTART;TZID=America/Chicago:20180713T080000
DTEND;TZID=America/Chicago:20180715T110000
DTSTAMP:20260419T181448
CREATED:20180211T120317Z
LAST-MODIFIED:20180420T031043Z
UID:10000276-1531468800-1531652400@www.atons.net
SUMMARY:Atons Camp Out 2018
DESCRIPTION:[two-thirds-first] \nThe Atons are headed back to the woods!\nFor over 30 years the Atons held our annual Runs and Camp Outs in state parks\, with the occasional return to the city for unique hotel based runs. After taking a few years away from the parks to try other venues\, we are returning to Minnesota’s beautiful state parks for our 2018 Camp Out. \nACTIVITIES\nAtons Camp Outs are somewhat more laid back compared to our runs. We are planning meals\, games\, class\, discussion\, play spaces\, and other events over the weekend. There are also nature trails nearby. Finding a nice shady spot to read a book or reconnecting with old friends are also options. For those who want to play\, we will have dungeon and play spaces available. You are welcome to bring equipment\, but please contact us if your equipment is large and might need special accommodations. 😉 \nWHAT’S INCLUDED\nThe Camp Out fee includes meals Friday night\, Saturday\, and Sunday\, and refreshments. Lodging *is* included this year. \nDIRECTIONS\nDirections to the park\, maps\, and other background information will be included in the confirmation letter from the Atons sent in early July. Transportation from the Twin Cities area to the campsite may be negotiated with other Camp Out attendees. (If you are familiar with the Knights of Leather Tournament\, then you are familiar with our campsite.) \nSOCIAL HOURS\nIf you would like to host a social hour or cocktail party\, or are willing to help out in any other way\, please contact Ken at campout@atons.net\, or call the Atons Hotline\, 612-562-8667. \nOTHER INFORMATION\nNo pets\, non-prescription drugs\, or public nudity are allowed\, by state park rules. All lodging is in onsite cabins. There are no tent or RV spots in the group center. \n[/two-thirds-first] \n[one-third] \n\n \nPowered by Eventbrite\n\nFAQ\nAre there ID or minimum age requirements to enter the event?\nYou must be 21 to attend the Atons Camp Out. \nWhat are my transportation/parking options for getting to and from the event?\nCamp Out attendees are responsible for their own transportation to the campsite. If you are flying into the Twin Cities to attend\, Atons members may be able to assist with finding transportation for you. We also suggest connecting with other Camp Out attendees via the Atons Camp Out 2018 Facebook event page. \nDon’t forget that you will need a Minnesota State Parks permit. See the information details above. \nCan I park my RV or pitch a tent?\nAll lodging is in onsite cabins. There are no RV or tent spots available on this group center site. This is a state park rule. \nIs there electricity in the cabins?\nMost of the cabins have no electricity. There is a special medical cabin available to attendees who electricity for medical needs. Please contact us if you need special accommodation. \nWhat should I bring to the event?\nbedding\nblankets\npillows\ntowels\ntoiletries\nflashlight\ninsect repellent\nsunscreen lotion\nportable battery for charging your mobile devices \nHow can I contact the organizer with any questions?\nContact us at campout@atons.net. \n  \nWhat’s the refund policy?\nA full refund is available until June 13\, 2018\, 30-days before the event.\n[/one-third]
URL:https://www.atons.net/event/atons-camp-out-2018/
LOCATION:Hinckley Minnesota\, Hinckley\, MN\, United States
CATEGORIES:Club Run
ATTACH;FMTTYPE=image/png:https://www.atons.net/wp-content/uploads/2018/02/atons_campout_eventbrite.png
END:VEVENT
BEGIN:VEVENT
DTSTART;TZID=America/Chicago:20180211T060000
DTEND;TZID=America/Chicago:20180211T090000
DTSTAMP:20260419T181448
CREATED:20180205T103213Z
LAST-MODIFIED:20210930T174222Z
UID:10000275-1518328800-1518339600@www.atons.net
SUMMARY:Atons 2018 Officers Installation Banquet
DESCRIPTION:Join the Atons as we celebrate a new year of leather and family at Elsie’s in Northeast Minneapolis. The celebration begins with appetizers and cocktails (cash bar) at 12 Noon. Dinner will be served at 1:00 PM. Meal choices are: \n\nRoasted Pork Loin with Maple Chipotle Glaze\, and Crispy Onions\nWild Rice Stuffed Chicken with Lingonberry Demi Sauce\nRoasted Squash Ravioli Sauced with Fried Sage & Brown Butter.\n12 oz Grilled New York Strip ($35.00 Ticket)\n\nFollowing dinner\, we will have a ceremony to install our 2018 Officers and to recognize our outstanding members and friends. \n$30-$35 per person. Appetizers\, Coffee\, and Dessert (cake by Wuollet Bakery) are included. \nRegistrations must be received by Sunday\, February 4\, 2018.
URL:https://www.atons.net/event/atons-2018-officers-installation-banquet/
LOCATION:Elsie’s\, 729 Marshall St NE\, Minneapolis\, MN\, 55413\, United States
CATEGORIES:Social
ATTACH;FMTTYPE=image/png:https://www.atons.net/wp-content/uploads/2018/02/original.png
END:VEVENT
END:VCALENDAR