BEGIN:VCALENDAR
VERSION:2.0
PRODID:-//Atons of Minneapolis - ECPv6.15.20//NONSGML v1.0//EN
CALSCALE:GREGORIAN
METHOD:PUBLISH
X-ORIGINAL-URL:https://www.atons.net
X-WR-CALDESC:Events for Atons of Minneapolis
REFRESH-INTERVAL;VALUE=DURATION:PT1H
X-Robots-Tag:noindex
X-PUBLISHED-TTL:PT1H
BEGIN:VTIMEZONE
TZID:America/Chicago
BEGIN:DAYLIGHT
TZOFFSETFROM:-0600
TZOFFSETTO:-0500
TZNAME:CDT
DTSTART:20180311T080000
END:DAYLIGHT
BEGIN:STANDARD
TZOFFSETFROM:-0500
TZOFFSETTO:-0600
TZNAME:CST
DTSTART:20181104T070000
END:STANDARD
BEGIN:DAYLIGHT
TZOFFSETFROM:-0600
TZOFFSETTO:-0500
TZNAME:CDT
DTSTART:20190310T080000
END:DAYLIGHT
BEGIN:STANDARD
TZOFFSETFROM:-0500
TZOFFSETTO:-0600
TZNAME:CST
DTSTART:20191103T070000
END:STANDARD
BEGIN:DAYLIGHT
TZOFFSETFROM:-0600
TZOFFSETTO:-0500
TZNAME:CDT
DTSTART:20200308T080000
END:DAYLIGHT
BEGIN:STANDARD
TZOFFSETFROM:-0500
TZOFFSETTO:-0600
TZNAME:CST
DTSTART:20201101T070000
END:STANDARD
BEGIN:DAYLIGHT
TZOFFSETFROM:-0600
TZOFFSETTO:-0500
TZNAME:CDT
DTSTART:20210314T080000
END:DAYLIGHT
BEGIN:STANDARD
TZOFFSETFROM:-0500
TZOFFSETTO:-0600
TZNAME:CST
DTSTART:20211107T070000
END:STANDARD
BEGIN:DAYLIGHT
TZOFFSETFROM:-0600
TZOFFSETTO:-0500
TZNAME:CDT
DTSTART:20220313T080000
END:DAYLIGHT
BEGIN:STANDARD
TZOFFSETFROM:-0500
TZOFFSETTO:-0600
TZNAME:CST
DTSTART:20221106T070000
END:STANDARD
BEGIN:DAYLIGHT
TZOFFSETFROM:-0600
TZOFFSETTO:-0500
TZNAME:CDT
DTSTART:20230312T080000
END:DAYLIGHT
BEGIN:STANDARD
TZOFFSETFROM:-0500
TZOFFSETTO:-0600
TZNAME:CST
DTSTART:20231105T070000
END:STANDARD
BEGIN:DAYLIGHT
TZOFFSETFROM:-0600
TZOFFSETTO:-0500
TZNAME:CDT
DTSTART:20240310T080000
END:DAYLIGHT
BEGIN:STANDARD
TZOFFSETFROM:-0500
TZOFFSETTO:-0600
TZNAME:CST
DTSTART:20241103T070000
END:STANDARD
END:VTIMEZONE
BEGIN:VEVENT
DTSTART;TZID=America/Chicago:20230709T170000
DTEND;TZID=America/Chicago:20230709T190000
DTSTAMP:20260422T114805
CREATED:20230703T153523Z
LAST-MODIFIED:20230703T153523Z
UID:10000475-1688922000-1688929200@www.atons.net
SUMMARY:Atons July General Meeting
DESCRIPTION:The Atons hold monthly meetings to discuss and plan upcoming activities and to socialize with each other and our guests. We welcome all members\, associates\, and community members to attend and participate in these conversations with us. \nA social dinner follows the open meeting. We’ll order pizza. \nIf you’d like to attend and need the address\, please email president@atons.net.
URL:https://www.atons.net/event/atons-july-general-meeting/
LOCATION:Private Location\, Minneapolis\, MN
CATEGORIES:Meeting
ATTACH;FMTTYPE=image/jpeg:https://www.atons.net/wp-content/uploads/2023/04/Atons-members-2023.jpg
END:VEVENT
BEGIN:VEVENT
DTSTART;TZID=America/Chicago:20230611T163000
DTEND;TZID=America/Chicago:20230611T190000
DTSTAMP:20260422T114805
CREATED:20230601T024258Z
LAST-MODIFIED:20230601T031339Z
UID:10000472-1686501000-1686510000@www.atons.net
SUMMARY:Atons June General Meeting
DESCRIPTION:The Atons hold monthly meetings to discuss and plan upcoming activities and to socialize with each other and our guests. We welcome all members\, associates\, and community members to attend and participate in these conversations with us. \nA social dinner follows the open meeting. We’ll order pizza. \nIf you’d like to attend and need the address\, please email president@atons.net.
URL:https://www.atons.net/event/atons-june-general-meeting/
LOCATION:Private Location\, Minneapolis\, MN
CATEGORIES:Meeting
ATTACH;FMTTYPE=image/jpeg:https://www.atons.net/wp-content/uploads/2023/04/154A8608.jpg
END:VEVENT
BEGIN:VEVENT
DTSTART;TZID=America/Chicago:20230514T163000
DTEND;TZID=America/Chicago:20230514T190000
DTSTAMP:20260422T114805
CREATED:20230419T032328Z
LAST-MODIFIED:20230419T032815Z
UID:10000450-1684081800-1684090800@www.atons.net
SUMMARY:Atons May General Meeting
DESCRIPTION:The Atons hold monthly meetings to discuss and plan upcoming activities and to socialize with each other and our guests. We welcome all members\, associates\, and community members to attend and participate in these conversations with us. \nThe full members have a closed meeting from 4:30 until 5:15 to discuss any private membership issues. Guests are welcome to arrive at 5:15. The open meeting starts at 5:30 and typically lasts about an hour. \nA social potluck dinner follows the open meeting. We will be ordering Pizzas. \nIf you’d like to attend and need the address\, please email president@atons.net.
URL:https://www.atons.net/event/atons-may-general-meeting/
LOCATION:Private Location\, Minneapolis\, MN
CATEGORIES:Meeting
ATTACH;FMTTYPE=image/jpeg:https://www.atons.net/wp-content/uploads/2023/04/154A8608.jpg
END:VEVENT
BEGIN:VEVENT
DTSTART;TZID=America/Chicago:20190210T173000
DTEND;TZID=America/Chicago:20190210T190000
DTSTAMP:20260422T114805
CREATED:20190206T063511Z
LAST-MODIFIED:20221008T032127Z
UID:10000280-1549819800-1549825200@www.atons.net
SUMMARY:Atons February Monthly Meeting
DESCRIPTION:The Atons hold monthly meetings to discuss and plan upcoming activities\, and to socialize with each other and our guests. We welcome all members\, associates\, and community members to attend and participate in these conversations with us.\n\nThe full members have a closed meeting from 4:30 until 5:15 to discuss any private membership issues. Guests are welcome to arrive at 5:15. The open meeting starts at 5:30 and typically lasts about an hour.\n\nA social potluck dinner follows the open meeting. Everyone is encouraged to bring something to share.\n\nIf you’d like to attend and need the address\, please send us a message on Facebook\, or an email to president@atons.net.
URL:https://www.atons.net/event/feb-2019-meeting/
LOCATION:Private Location\, Minneapolis\, MN
CATEGORIES:Meeting
ATTACH;FMTTYPE=image/jpeg:https://www.atons.net/wp-content/uploads/2019/02/hanky-variety.jpg
END:VEVENT
END:VCALENDAR