BEGIN:VCALENDAR
VERSION:2.0
PRODID:-//Atons of Minneapolis - ECPv6.15.20//NONSGML v1.0//EN
CALSCALE:GREGORIAN
METHOD:PUBLISH
X-WR-CALNAME:Atons of Minneapolis
X-ORIGINAL-URL:https://www.atons.net
X-WR-CALDESC:Events for Atons of Minneapolis
REFRESH-INTERVAL;VALUE=DURATION:PT1H
X-Robots-Tag:noindex
X-PUBLISHED-TTL:PT1H
BEGIN:VTIMEZONE
TZID:America/Chicago
BEGIN:DAYLIGHT
TZOFFSETFROM:-0600
TZOFFSETTO:-0500
TZNAME:CDT
DTSTART:20210314T080000
END:DAYLIGHT
BEGIN:STANDARD
TZOFFSETFROM:-0500
TZOFFSETTO:-0600
TZNAME:CST
DTSTART:20211107T070000
END:STANDARD
BEGIN:DAYLIGHT
TZOFFSETFROM:-0600
TZOFFSETTO:-0500
TZNAME:CDT
DTSTART:20220313T080000
END:DAYLIGHT
BEGIN:STANDARD
TZOFFSETFROM:-0500
TZOFFSETTO:-0600
TZNAME:CST
DTSTART:20221106T070000
END:STANDARD
BEGIN:DAYLIGHT
TZOFFSETFROM:-0600
TZOFFSETTO:-0500
TZNAME:CDT
DTSTART:20230312T080000
END:DAYLIGHT
BEGIN:STANDARD
TZOFFSETFROM:-0500
TZOFFSETTO:-0600
TZNAME:CST
DTSTART:20231105T070000
END:STANDARD
BEGIN:DAYLIGHT
TZOFFSETFROM:-0600
TZOFFSETTO:-0500
TZNAME:CDT
DTSTART:20240310T080000
END:DAYLIGHT
BEGIN:STANDARD
TZOFFSETFROM:-0500
TZOFFSETTO:-0600
TZNAME:CST
DTSTART:20241103T070000
END:STANDARD
END:VTIMEZONE
BEGIN:VEVENT
DTSTART;TZID=America/Chicago:20230427T183000
DTEND;TZID=America/Chicago:20230427T203000
DTSTAMP:20260421T063948
CREATED:20230328T181147Z
LAST-MODIFIED:20230405T184939Z
UID:10000411-1682620200-1682627400@www.atons.net
SUMMARY:Atons Dining Out For Life at Sawatdee (Minneapolis)
DESCRIPTION:Dining Out For Life® is an annual fundraising event where the community comes together to eat out at restaurants that have committed to donating a percentage of their profits to HIV/AIDS services in their city. The Aliveness Project has hosted DOFL in Minnesota for the past 29 years. Dine Out to End HIV on April 27 by participating in Dining Out For Life . \nEvery year in April\, the Atons participate in Dining Out for Life by organizing a dinner group to eat at one of the restaurants supporting the event. This year we have chosen Sawatdee in Minneapolis. Sawatdee is a long-time favorite of our regular L&L attendees. \nAll are welcome! Please join us on April 27 at 6:30 pm. We have a reservation\, but we need you to RSVP below by end of the day on Tuesday\, April 25th.  \n\n\n\nThis is a free event\, but you will be responsible for your own food & beverages. \n\n\n\nSawatdee does not have its own parking. There are multiple ramps and lots within walking distance\, plus street parking.
URL:https://www.atons.net/event/atons-dining-out-for-life-at-sawatdee-minneapolis/
LOCATION:Sawatdee Thai Restaurant – Minneapolis\, 607 Washington Avenue S\, Minneapolis\, MN\, 55415\, United States
CATEGORIES:Fundraiser,L & L Dinner,Social
ATTACH;FMTTYPE=image/jpeg:https://www.atons.net/wp-content/uploads/2022/09/sawatdee-scaled.jpg
END:VEVENT
BEGIN:VEVENT
DTSTART;TZID=America/Chicago:20221112T190000
DTEND;TZID=America/Chicago:20221112T203000
DTSTAMP:20260421T063948
CREATED:20221011T015825Z
LAST-MODIFIED:20221026T145730Z
UID:10000308-1668279600-1668285000@www.atons.net
SUMMARY:Atons L & L November 12:  Sawatdee (Minneapolis)
DESCRIPTION:Join us as the Atons enjoy a little Thai at the Sawatdee Minneapolis – Washington Ave. Please RSVP by Friday\, November 11.  \n\n\n\nFollowing dinner\, please join us over at the eagleBolt Bar for a good old-fashioned Atons Leather Night. \n\n\n\nThis is a free event\, but you will be responsible for your own food & beverages. \n\n\n\nSawatdee does not have its own parking. There are multiple ramps and lots within walking distance\, plus street parking. \n\n\n\nAll are welcome!  Please use the RSVP ticketing to reserve your seat.
URL:https://www.atons.net/event/atons-l-l-november-12-sawatdee-minneapolis/
LOCATION:Sawatdee Thai Restaurant – Minneapolis\, 607 Washington Avenue S\, Minneapolis\, MN\, 55415\, United States
CATEGORIES:L & L Dinner,Social
ATTACH;FMTTYPE=image/jpeg:https://www.atons.net/wp-content/uploads/2022/09/sawatdee-scaled.jpg
END:VEVENT
END:VCALENDAR